BEGIN:VCALENDAR
VERSION:2.0
PRODID:-//hacksw/handcal//NONSGML v1.0//EN
CALSCALE:GREGORIAN
X-WR-TIMEZONE:Europe/Vienna
BEGIN:VEVENT
DESCRIPTION:Vier minus drei
DTSTART:20260422T193000
DTEND:20260422T213000
URL;VALUE=URI:https://www.oval.at/de/events/vier-minus-drei-3/2026-04-22
SUMMARY:Vier minus drei
LOCATION:OVAL - Die Bühne im EUROPARK
DTSTAMP:20260421T071006
UID:69e722cebeced
END:VEVENT
END:VCALENDAR