BEGIN:VCALENDAR
VERSION:2.0
PRODID:-//hacksw/handcal//NONSGML v1.0//EN
CALSCALE:GREGORIAN
X-WR-TIMEZONE:Europe/Vienna
BEGIN:VEVENT
DESCRIPTION:Immer Weyder!
DTSTART:20270115T193000
DTEND:20270115T211000
URL;VALUE=URI:https://www.oval.at/de/events/immer-weyder-jan-van-weyde/2027-01-15
SUMMARY:Immer Weyder!
LOCATION:OVAL - Die Bühne im EUROPARK
DTSTAMP:20260422T083505
UID:69e888394694d
END:VEVENT
END:VCALENDAR